BEGIN:VCALENDAR
VERSION:2.0
PRODID:-//Goodwill Industries of North Central Pennsylvania - ECPv5.9.0//NONSGML v1.0//EN
CALSCALE:GREGORIAN
METHOD:PUBLISH
X-WR-CALNAME:Goodwill Industries of North Central Pennsylvania
X-ORIGINAL-URL:https://goodwillinc.org
X-WR-CALDESC:Events for Goodwill Industries of North Central Pennsylvania
BEGIN:VTIMEZONE
TZID:UTC
BEGIN:STANDARD
TZOFFSETFROM:+0000
TZOFFSETTO:+0000
TZNAME:UTC
DTSTART:20260101T000000
END:STANDARD
END:VTIMEZONE
BEGIN:VEVENT
DTSTART;TZID=UTC:20260507T110000
DTEND;TZID=UTC:20260507T130000
DTSTAMP:20260425T183411
CREATED:20260424T182720Z
LAST-MODIFIED:20260424T183323Z
UID:1797-1778151600-1778158800@goodwillinc.org
SUMMARY:Kane Open House and Ribbon Cutting
DESCRIPTION:You’re invited! Kane Open House & Ribbon Cutting 11 AM – 1 PM Ribbon Cutting at Noon\n Live broadcast with Kane Area Radio Refreshments Gift card giveaways Tour the new store Meet our team & learn about Goodwill’s impact in Kane\nCome celebrate with us – we’d love to see you there!
URL:https://goodwillinc.org/event/kane-open-house-and-ribbon-cutting/
LOCATION:Kane Goodwill\, 521 N Fraley Street\, Kane\, 16735\, United States
ATTACH;FMTTYPE=image/jpeg:https://goodwillinc.org/wp-content/uploads/2026/04/Kane-Goodwill-Ribbon-Cutting-scaled.jpg
END:VEVENT
END:VCALENDAR