BEGIN:VCALENDAR
VERSION:2.0
PRODID:-//Goodwill Industries of North Central Pennsylvania - ECPv5.9.0//NONSGML v1.0//EN
CALSCALE:GREGORIAN
METHOD:PUBLISH
X-WR-CALNAME:Goodwill Industries of North Central Pennsylvania
X-ORIGINAL-URL:https://goodwillinc.org
X-WR-CALDESC:Events for Goodwill Industries of North Central Pennsylvania
BEGIN:VTIMEZONE
TZID:UTC
BEGIN:STANDARD
TZOFFSETFROM:+0000
TZOFFSETTO:+0000
TZNAME:UTC
DTSTART:20260101T000000
END:STANDARD
END:VTIMEZONE
BEGIN:VEVENT
DTSTART;TZID=UTC:20260506T113000
DTEND;TZID=UTC:20260506T133000
DTSTAMP:20260425T171450
CREATED:20260424T182444Z
LAST-MODIFIED:20260424T183448Z
UID:1794-1778067000-1778074200@goodwillinc.org
SUMMARY:Goodwill Greenhouse Mid-Day Mixer
DESCRIPTION:Join us on May 6 for our Annual Goodwill Greenhouse Mid-day Mixer!\nStop by for a fun afternoon featuring food\, giveaways\, and a live broadcast with Sharon Stewart from Mega Rock.\nIt’s the perfect time to pick up beautiful flowers just in time for Mother’s Day while supporting a great cause.\nWe’ll also have a great selection of garden starters\, hanging baskets\, and beautiful planters to help you brighten your own home and garden this season.\nThis event is part of Goodwill Week\, a week-long celebration of the impact Goodwill has in the communities we serve.\nThank you to the Chamber of Commerce for co-hosting this event with us again this year!\nWe hope to see you there!
URL:https://goodwillinc.org/event/goodwill-greenhouse-mid-day-mixer-3/
LOCATION:Goodwill Greenhouse\, 101 Preston Way\, Falls Creek\, PA\, 15840\, United States
ATTACH;FMTTYPE=image/png:https://goodwillinc.org/wp-content/uploads/2026/04/A-New-Design-12.png
END:VEVENT
END:VCALENDAR